
BEGIN:VCALENDAR
VERSION:2.0
PRODID:-//Spas Organisation - ECPv6.15.16//NONSGML v1.0//EN
CALSCALE:GREGORIAN
METHOD:PUBLISH
X-WR-CALNAME:Spas Organisation
X-ORIGINAL-URL:https://www.spas-expo.com
X-WR-CALDESC:Évènements pour Spas Organisation
REFRESH-INTERVAL;VALUE=DURATION:PT1H
X-Robots-Tag:noindex
X-PUBLISHED-TTL:PT1H
BEGIN:VTIMEZONE
TZID:Europe/Paris
BEGIN:DAYLIGHT
TZOFFSETFROM:+0100
TZOFFSETTO:+0200
TZNAME:CEST
DTSTART:20170326T010000
END:DAYLIGHT
BEGIN:STANDARD
TZOFFSETFROM:+0200
TZOFFSETTO:+0100
TZNAME:CET
DTSTART:20171029T010000
END:STANDARD
BEGIN:DAYLIGHT
TZOFFSETFROM:+0100
TZOFFSETTO:+0200
TZNAME:CEST
DTSTART:20180325T010000
END:DAYLIGHT
BEGIN:STANDARD
TZOFFSETFROM:+0200
TZOFFSETTO:+0100
TZNAME:CET
DTSTART:20181028T010000
END:STANDARD
BEGIN:DAYLIGHT
TZOFFSETFROM:+0100
TZOFFSETTO:+0200
TZNAME:CEST
DTSTART:20190331T010000
END:DAYLIGHT
BEGIN:STANDARD
TZOFFSETFROM:+0200
TZOFFSETTO:+0100
TZNAME:CET
DTSTART:20191027T010000
END:STANDARD
END:VTIMEZONE
BEGIN:VEVENT
DTSTART;VALUE=DATE:20180601
DTEND;VALUE=DATE:20180605
DTSTAMP:20260423T181429
CREATED:20170921T080200Z
LAST-MODIFIED:20180321T102336Z
UID:4267-1527811200-1528156799@www.spas-expo.com
SUMMARY:Salon NATURALLY Paris
DESCRIPTION:NATURALLY se positionne vraiment comme le SALON DES PLAISIRS NATURE à PARIS\, avec tout particulièrement l’agriculture biologique mise en avant de part les produits alimentaires et la cosmétique\, ce dans le prolongement naturel des salons VIVEZ NATURE.
URL:https://www.spas-expo.com/event/salon-naturally-paris/
LOCATION:PARIS PORTE DE VERSAILLES\, 1 Place de la Porte de Versailles\, PARIS\, 75015
CATEGORIES:Salon BIO
ATTACH;FMTTYPE=image/jpeg:https://www.spas-expo.com/wp-content/uploads/2017/09/Afficha-salon-Naturally.jpg
ORGANIZER;CN="SPAS Organisation":MAILTO:contact@spas-expo.com
END:VEVENT
END:VCALENDAR