
BEGIN:VCALENDAR
VERSION:2.0
PRODID:-//Spas Organisation - ECPv6.15.16//NONSGML v1.0//EN
CALSCALE:GREGORIAN
METHOD:PUBLISH
X-WR-CALNAME:Spas Organisation
X-ORIGINAL-URL:https://www.spas-expo.com
X-WR-CALDESC:Évènements pour Spas Organisation
REFRESH-INTERVAL;VALUE=DURATION:PT1H
X-Robots-Tag:noindex
X-PUBLISHED-TTL:PT1H
BEGIN:VTIMEZONE
TZID:Europe/Paris
BEGIN:DAYLIGHT
TZOFFSETFROM:+0100
TZOFFSETTO:+0200
TZNAME:CEST
DTSTART:20180325T010000
END:DAYLIGHT
BEGIN:STANDARD
TZOFFSETFROM:+0200
TZOFFSETTO:+0100
TZNAME:CET
DTSTART:20181028T010000
END:STANDARD
BEGIN:DAYLIGHT
TZOFFSETFROM:+0100
TZOFFSETTO:+0200
TZNAME:CEST
DTSTART:20190331T010000
END:DAYLIGHT
BEGIN:STANDARD
TZOFFSETFROM:+0200
TZOFFSETTO:+0100
TZNAME:CET
DTSTART:20191027T010000
END:STANDARD
BEGIN:DAYLIGHT
TZOFFSETFROM:+0100
TZOFFSETTO:+0200
TZNAME:CEST
DTSTART:20200329T010000
END:DAYLIGHT
BEGIN:STANDARD
TZOFFSETFROM:+0200
TZOFFSETTO:+0100
TZNAME:CET
DTSTART:20201025T010000
END:STANDARD
END:VTIMEZONE
BEGIN:VEVENT
DTSTART;VALUE=DATE:20190208
DTEND;VALUE=DATE:20190211
DTSTAMP:20260422T131123
CREATED:20170907T074651Z
LAST-MODIFIED:20180604T092834Z
UID:3943-1549584000-1549843199@www.spas-expo.com
SUMMARY:Salon LES THERMALIES Lyon
DESCRIPTION:Le salon de l’eau et du bien-être revient à Lyon \n160 exposants – 5 800 visiteurs \n  \n\nThalasso – Thermalisme – Santé – Tourisme médical – Wellness\n6 pavillons thématiques\n3ème édition\n\n 
URL:https://www.spas-expo.com/event/les-thermalies-lyon/
LOCATION:LA SUCRIERE\, 49-50 Quai Rambaud\, LYON\, 69002\, France
CATEGORIES:Salon Bien-être & Art de vivre
ATTACH;FMTTYPE=image/jpeg:https://www.spas-expo.com/wp-content/uploads/2018/06/Affiche-Th2019.jpg
ORGANIZER;CN="SPAS Organisation":MAILTO:contact@spas-expo.com
END:VEVENT
END:VCALENDAR