
BEGIN:VCALENDAR
VERSION:2.0
PRODID:-//Spas Organisation - ECPv6.15.16//NONSGML v1.0//EN
CALSCALE:GREGORIAN
METHOD:PUBLISH
X-WR-CALNAME:Spas Organisation
X-ORIGINAL-URL:https://www.spas-expo.com
X-WR-CALDESC:Évènements pour Spas Organisation
REFRESH-INTERVAL;VALUE=DURATION:PT1H
X-Robots-Tag:noindex
X-PUBLISHED-TTL:PT1H
BEGIN:VTIMEZONE
TZID:Europe/Paris
BEGIN:DAYLIGHT
TZOFFSETFROM:+0100
TZOFFSETTO:+0200
TZNAME:CEST
DTSTART:20180325T010000
END:DAYLIGHT
BEGIN:STANDARD
TZOFFSETFROM:+0200
TZOFFSETTO:+0100
TZNAME:CET
DTSTART:20181028T010000
END:STANDARD
BEGIN:DAYLIGHT
TZOFFSETFROM:+0100
TZOFFSETTO:+0200
TZNAME:CEST
DTSTART:20190331T010000
END:DAYLIGHT
BEGIN:STANDARD
TZOFFSETFROM:+0200
TZOFFSETTO:+0100
TZNAME:CET
DTSTART:20191027T010000
END:STANDARD
BEGIN:DAYLIGHT
TZOFFSETFROM:+0100
TZOFFSETTO:+0200
TZNAME:CEST
DTSTART:20200329T010000
END:DAYLIGHT
BEGIN:STANDARD
TZOFFSETFROM:+0200
TZOFFSETTO:+0100
TZNAME:CET
DTSTART:20201025T010000
END:STANDARD
END:VTIMEZONE
BEGIN:VEVENT
DTSTART;VALUE=DATE:20190524
DTEND;VALUE=DATE:20190528
DTSTAMP:20260421T174529
CREATED:20180911T142447Z
LAST-MODIFIED:20190118T112012Z
UID:4837-1558656000-1559001599@www.spas-expo.com
SUMMARY:Salon NATURALLY Paris
DESCRIPTION:Les beaux jours de la bio\nVenez préparer votre été bio et bien-être sur le salon Naturally\n180 exposants – 17 400 visiteurs \n\n4 jours de rencontres\, d’échanges et de découvertes\nDe nouvelles tendances bio\nUn salon interactif avec des conférences\, des ateliers pratiques et des animations créatives\n18ème édition en 2019
URL:https://www.spas-expo.com/event/salon-naturally/
LOCATION:PARIS PORTE DE VERSAILLES\, 1 Place de la Porte de Versailles\, PARIS\, 75015
CATEGORIES:Salon BIO
ATTACH;FMTTYPE=image/jpeg:https://www.spas-expo.com/wp-content/uploads/2018/11/Affiche-salon-Naturally-2019.jpg
ORGANIZER;CN="SPAS Organisation":MAILTO:contact@spas-expo.com
END:VEVENT
END:VCALENDAR