
BEGIN:VCALENDAR
VERSION:2.0
PRODID:-//Spas Organisation - ECPv6.15.16//NONSGML v1.0//EN
CALSCALE:GREGORIAN
METHOD:PUBLISH
X-ORIGINAL-URL:https://www.spas-expo.com
X-WR-CALDESC:Évènements pour Spas Organisation
REFRESH-INTERVAL;VALUE=DURATION:PT1H
X-Robots-Tag:noindex
X-PUBLISHED-TTL:PT1H
BEGIN:VTIMEZONE
TZID:Europe/Paris
BEGIN:DAYLIGHT
TZOFFSETFROM:+0100
TZOFFSETTO:+0200
TZNAME:CEST
DTSTART:20230326T010000
END:DAYLIGHT
BEGIN:STANDARD
TZOFFSETFROM:+0200
TZOFFSETTO:+0100
TZNAME:CET
DTSTART:20231029T010000
END:STANDARD
BEGIN:DAYLIGHT
TZOFFSETFROM:+0100
TZOFFSETTO:+0200
TZNAME:CEST
DTSTART:20240331T010000
END:DAYLIGHT
BEGIN:STANDARD
TZOFFSETFROM:+0200
TZOFFSETTO:+0100
TZNAME:CET
DTSTART:20241027T010000
END:STANDARD
BEGIN:DAYLIGHT
TZOFFSETFROM:+0100
TZOFFSETTO:+0200
TZNAME:CEST
DTSTART:20250330T010000
END:DAYLIGHT
BEGIN:STANDARD
TZOFFSETFROM:+0200
TZOFFSETTO:+0100
TZNAME:CET
DTSTART:20251026T010000
END:STANDARD
END:VTIMEZONE
BEGIN:VEVENT
DTSTART;VALUE=DATE:20240405
DTEND;VALUE=DATE:20240408
DTSTAMP:20260421T142858
CREATED:20231213T101326Z
LAST-MODIFIED:20231213T101439Z
UID:8203-1712275200-1712534399@www.spas-expo.com
SUMMARY:Salon Bien-être\, Médecine Douce Marseille
DESCRIPTION:Le rendez vous incontournable des médecines douces propose 3 éditions Paris\, Lyon et Marseille. Vous êtes un professionnels des médecines complémentaires : laboratoires spécialisés\, écoles et formations en médecines douces et un village des thérapeutes. Nous vous donnons rendez-vous en 2024 ! \nUn programme de conférences en écho avec l’actualité\, une nouvelle implantation plus cohérente avec les attentes des visiteurs et des propositions d’expériences viendront compléter les fondamentaux du salon.
URL:https://www.spas-expo.com/event/salon-bien-etre-medecine-douce-marseille-3/
CATEGORIES:Salon Bien-être & Art de vivre
ATTACH;FMTTYPE=image/jpeg:https://www.spas-expo.com/wp-content/uploads/2023/12/BEMD-MARSEILLE-2024_x10_page-0001-scaled.jpg
END:VEVENT
END:VCALENDAR