
BEGIN:VCALENDAR
VERSION:2.0
PRODID:-//Spas Organisation - ECPv6.15.16//NONSGML v1.0//EN
CALSCALE:GREGORIAN
METHOD:PUBLISH
X-ORIGINAL-URL:https://www.spas-expo.com
X-WR-CALDESC:Évènements pour Spas Organisation
REFRESH-INTERVAL;VALUE=DURATION:PT1H
X-Robots-Tag:noindex
X-PUBLISHED-TTL:PT1H
BEGIN:VTIMEZONE
TZID:Europe/Paris
BEGIN:DAYLIGHT
TZOFFSETFROM:+0100
TZOFFSETTO:+0200
TZNAME:CEST
DTSTART:20240331T010000
END:DAYLIGHT
BEGIN:STANDARD
TZOFFSETFROM:+0200
TZOFFSETTO:+0100
TZNAME:CET
DTSTART:20241027T010000
END:STANDARD
BEGIN:DAYLIGHT
TZOFFSETFROM:+0100
TZOFFSETTO:+0200
TZNAME:CEST
DTSTART:20250330T010000
END:DAYLIGHT
BEGIN:STANDARD
TZOFFSETFROM:+0200
TZOFFSETTO:+0100
TZNAME:CET
DTSTART:20251026T010000
END:STANDARD
BEGIN:DAYLIGHT
TZOFFSETFROM:+0100
TZOFFSETTO:+0200
TZNAME:CEST
DTSTART:20260329T010000
END:DAYLIGHT
BEGIN:STANDARD
TZOFFSETFROM:+0200
TZOFFSETTO:+0100
TZNAME:CET
DTSTART:20261025T010000
END:STANDARD
END:VTIMEZONE
BEGIN:VEVENT
DTSTART;VALUE=DATE:20250123
DTEND;VALUE=DATE:20250127
DTSTAMP:20260423T004730
CREATED:20231213T101605Z
LAST-MODIFIED:20241119T111328Z
UID:8207-1737590400-1737935999@www.spas-expo.com
SUMMARY:Salon Les Thermalies Paris
DESCRIPTION:LES THERMALIES est Le rendez-vous pour découvrir les vertus de l’eau\, les plus belles destinations en France et à l’étranger et les dernières tendances en matière de bien-être.
URL:https://www.spas-expo.com/event/salon-les-thermalies-paris-3/
LOCATION:CARROUSEL DU LOUVRE\, 99 Rue de Rivoli\, PARIS\, 75001\, France
CATEGORIES:Salon Bien-être & Art de vivre
ATTACH;FMTTYPE=image/jpeg:https://www.spas-expo.com/wp-content/uploads/2023/12/TH25-AFF-A4-210X297-PARIS.jpg
END:VEVENT
END:VCALENDAR