
BEGIN:VCALENDAR
VERSION:2.0
PRODID:-//Spas Organisation - ECPv6.15.16//NONSGML v1.0//EN
CALSCALE:GREGORIAN
METHOD:PUBLISH
X-WR-CALNAME:Spas Organisation
X-ORIGINAL-URL:https://www.spas-expo.com
X-WR-CALDESC:Évènements pour Spas Organisation
REFRESH-INTERVAL;VALUE=DURATION:PT1H
X-Robots-Tag:noindex
X-PUBLISHED-TTL:PT1H
BEGIN:VTIMEZONE
TZID:Europe/Paris
BEGIN:DAYLIGHT
TZOFFSETFROM:+0100
TZOFFSETTO:+0200
TZNAME:CEST
DTSTART:20240331T010000
END:DAYLIGHT
BEGIN:STANDARD
TZOFFSETFROM:+0200
TZOFFSETTO:+0100
TZNAME:CET
DTSTART:20241027T010000
END:STANDARD
BEGIN:DAYLIGHT
TZOFFSETFROM:+0100
TZOFFSETTO:+0200
TZNAME:CEST
DTSTART:20250330T010000
END:DAYLIGHT
BEGIN:STANDARD
TZOFFSETFROM:+0200
TZOFFSETTO:+0100
TZNAME:CET
DTSTART:20251026T010000
END:STANDARD
BEGIN:DAYLIGHT
TZOFFSETFROM:+0100
TZOFFSETTO:+0200
TZNAME:CEST
DTSTART:20260329T010000
END:DAYLIGHT
BEGIN:STANDARD
TZOFFSETFROM:+0200
TZOFFSETTO:+0100
TZNAME:CET
DTSTART:20261025T010000
END:STANDARD
END:VTIMEZONE
BEGIN:VEVENT
DTSTART;VALUE=DATE:20251024
DTEND;VALUE=DATE:20251027
DTSTAMP:20260425T133728
CREATED:20250623T075058Z
LAST-MODIFIED:20250623T075058Z
UID:8824-1761264000-1761523199@www.spas-expo.com
SUMMARY:Salon Artemisia Marseille
DESCRIPTION:Artemisia\, le plus grand salon bio et bien-être en PACA \nPrès de 160 exposants seront présents et animeront le salon autour de la bio et du bien-être\, animés du même état d’esprit : celui de changer les modes de vie et présenter des solutions qui aident à mieux consommer en restant en harmonie avec notre environnement\, notre corps et notre esprit. \n\n3 jours de rencontres\, d’échanges et de découvertes\nPrès de 160 exposants\, experts et passionnés de la bio et du bien-être\nUn salon interactif avec des conférences\, des ateliers bien-être et des animations créatives\n26ème édition
URL:https://www.spas-expo.com/event/salon-artemisia-marseille-6/
LOCATION:PARC CHANOT\, PARC CHANOT - Palais des Evénements\, MARSEILLE\, France
CATEGORIES:Salon en Région
ATTACH;FMTTYPE=image/png:https://www.spas-expo.com/wp-content/uploads/2025/06/ARTEMSIA-A4.png
ORGANIZER;CN="SPAS Organisation":MAILTO:contact@spas-expo.com
END:VEVENT
END:VCALENDAR