
BEGIN:VCALENDAR
VERSION:2.0
PRODID:-//Spas Organisation - ECPv6.15.16//NONSGML v1.0//EN
CALSCALE:GREGORIAN
METHOD:PUBLISH
X-ORIGINAL-URL:https://www.spas-expo.com
X-WR-CALDESC:Évènements pour Spas Organisation
REFRESH-INTERVAL;VALUE=DURATION:PT1H
X-Robots-Tag:noindex
X-PUBLISHED-TTL:PT1H
BEGIN:VTIMEZONE
TZID:Europe/Paris
BEGIN:DAYLIGHT
TZOFFSETFROM:+0100
TZOFFSETTO:+0200
TZNAME:CEST
DTSTART:20260329T010000
END:DAYLIGHT
BEGIN:STANDARD
TZOFFSETFROM:+0200
TZOFFSETTO:+0100
TZNAME:CET
DTSTART:20261025T010000
END:STANDARD
BEGIN:DAYLIGHT
TZOFFSETFROM:+0100
TZOFFSETTO:+0200
TZNAME:CEST
DTSTART:20270328T010000
END:DAYLIGHT
BEGIN:STANDARD
TZOFFSETFROM:+0200
TZOFFSETTO:+0100
TZNAME:CET
DTSTART:20271031T010000
END:STANDARD
BEGIN:DAYLIGHT
TZOFFSETFROM:+0100
TZOFFSETTO:+0200
TZNAME:CEST
DTSTART:20280326T010000
END:DAYLIGHT
BEGIN:STANDARD
TZOFFSETFROM:+0200
TZOFFSETTO:+0100
TZNAME:CET
DTSTART:20281029T010000
END:STANDARD
END:VTIMEZONE
BEGIN:VEVENT
DTSTART;VALUE=DATE:20270128
DTEND;VALUE=DATE:20270202
DTSTAMP:20260422T095729
CREATED:20260325T104308Z
LAST-MODIFIED:20260325T110438Z
UID:9238-1801094400-1801526399@www.spas-expo.com
SUMMARY:Salon Bien-être\, Médecine Douce Paris
DESCRIPTION:Le rendez vous incontournable des médecines douces propose 2 éditions Paris et Lyon. Vous êtes un professionnel des médecines complémentaires : laboratoires spécialisés\, écoles et formations en médecines douces et un village des thérapeutes. Nous vous donnons rendez-vous en 2026 ! \nUn programme de conférences en écho avec l’actualité\, une nouvelle implantation plus cohérente avec les attentes des visiteurs et des propositions d’expériences viendront compléter les fondamentaux du salon.
URL:https://www.spas-expo.com/event/salon-bien-etre-medecine-douce-paris-4/
LOCATION:PARIS PORTE DE VERSAILLES\, 1 Place de la Porte de Versailles\, PARIS\, 75015
CATEGORIES:Salon Bien-être & Art de vivre
ATTACH;FMTTYPE=image/png:https://www.spas-expo.com/wp-content/uploads/2026/03/2.png
END:VEVENT
END:VCALENDAR