
BEGIN:VCALENDAR
VERSION:2.0
PRODID:-//Spas Organisation - ECPv6.15.16//NONSGML v1.0//EN
CALSCALE:GREGORIAN
METHOD:PUBLISH
X-ORIGINAL-URL:https://www.spas-expo.com
X-WR-CALDESC:Évènements pour Spas Organisation
REFRESH-INTERVAL;VALUE=DURATION:PT1H
X-Robots-Tag:noindex
X-PUBLISHED-TTL:PT1H
BEGIN:VTIMEZONE
TZID:Europe/Paris
BEGIN:DAYLIGHT
TZOFFSETFROM:+0100
TZOFFSETTO:+0200
TZNAME:CEST
DTSTART:20260329T010000
END:DAYLIGHT
BEGIN:STANDARD
TZOFFSETFROM:+0200
TZOFFSETTO:+0100
TZNAME:CET
DTSTART:20261025T010000
END:STANDARD
BEGIN:DAYLIGHT
TZOFFSETFROM:+0100
TZOFFSETTO:+0200
TZNAME:CEST
DTSTART:20270328T010000
END:DAYLIGHT
BEGIN:STANDARD
TZOFFSETFROM:+0200
TZOFFSETTO:+0100
TZNAME:CET
DTSTART:20271031T010000
END:STANDARD
BEGIN:DAYLIGHT
TZOFFSETFROM:+0100
TZOFFSETTO:+0200
TZNAME:CEST
DTSTART:20280326T010000
END:DAYLIGHT
BEGIN:STANDARD
TZOFFSETFROM:+0200
TZOFFSETTO:+0100
TZNAME:CET
DTSTART:20281029T010000
END:STANDARD
END:VTIMEZONE
BEGIN:VEVENT
DTSTART;VALUE=DATE:20270115
DTEND;VALUE=DATE:20270118
DTSTAMP:20260422T124735
CREATED:20260325T104112Z
LAST-MODIFIED:20260325T110509Z
UID:9236-1799971200-1800230399@www.spas-expo.com
SUMMARY:Salon Bien-être\, Médecine Douce Lyon
DESCRIPTION:Le rendez vous incontournable des médecines douces propose 2 éditions Paris et Lyon. Vous êtes un professionnel des médecines complémentaires : laboratoires spécialisés\, écoles et formations en médecines douces et un village des thérapeutes. Nous vous donnons rendez-vous en 2026 ! \nUn programme de conférences en écho avec l’actualité\, une nouvelle implantation plus cohérente avec les attentes des visiteurs et des propositions d’expériences viendront compléter les fondamentaux du salon.
URL:https://www.spas-expo.com/event/salon-bien-etre-medecine-douce-lyon-5/
CATEGORIES:Salon Bien-être & Art de vivre
ATTACH;FMTTYPE=image/png:https://www.spas-expo.com/wp-content/uploads/2026/03/3.png
END:VEVENT
BEGIN:VEVENT
DTSTART;VALUE=DATE:20270115
DTEND;VALUE=DATE:20270118
DTSTAMP:20260422T124735
CREATED:20260325T104437Z
LAST-MODIFIED:20260325T115226Z
UID:9240-1799971200-1800230399@www.spas-expo.com
SUMMARY:Salon Les Thermalies Lyon
DESCRIPTION:Le salon de l’eau et du bien-être \n150 exposants – 6 500 visiteurs \n\n3 jours de rencontres\, d’échanges et de découvertes\nRencontrer et échanger avec les acteurs principaux de la thalassothérapie\, thermalisme\, spa\, santé et beauté et pour organiser au mieux votre séjour\nChoisir vos prochaines cures et soins\nBénéficier d’offres et de tarifs préférentiels durant le salon\n6ème édition
URL:https://www.spas-expo.com/event/salon-les-thermalies-lyon-5/
LOCATION:Cité Internationale\, Quai Charles de Gaulle\, Lyon\, 69006\, France
CATEGORIES:Salon Bien-être & Art de vivre
ATTACH;FMTTYPE=image/png:https://www.spas-expo.com/wp-content/uploads/2026/03/28-jan.-1erfevr.-2026-PARIS-2.png
ORGANIZER;CN="SPAS Organisation":MAILTO:contact@spas-expo.com
END:VEVENT
END:VCALENDAR