
BEGIN:VCALENDAR
VERSION:2.0
PRODID:-//Spas Organisation - ECPv6.15.16//NONSGML v1.0//EN
CALSCALE:GREGORIAN
METHOD:PUBLISH
X-WR-CALNAME:Spas Organisation
X-ORIGINAL-URL:https://www.spas-expo.com
X-WR-CALDESC:Évènements pour Spas Organisation
REFRESH-INTERVAL;VALUE=DURATION:PT1H
X-Robots-Tag:noindex
X-PUBLISHED-TTL:PT1H
BEGIN:VTIMEZONE
TZID:Europe/Paris
BEGIN:DAYLIGHT
TZOFFSETFROM:+0100
TZOFFSETTO:+0200
TZNAME:CEST
DTSTART:20170326T010000
END:DAYLIGHT
BEGIN:STANDARD
TZOFFSETFROM:+0200
TZOFFSETTO:+0100
TZNAME:CET
DTSTART:20171029T010000
END:STANDARD
BEGIN:DAYLIGHT
TZOFFSETFROM:+0100
TZOFFSETTO:+0200
TZNAME:CEST
DTSTART:20180325T010000
END:DAYLIGHT
BEGIN:STANDARD
TZOFFSETFROM:+0200
TZOFFSETTO:+0100
TZNAME:CET
DTSTART:20181028T010000
END:STANDARD
BEGIN:DAYLIGHT
TZOFFSETFROM:+0100
TZOFFSETTO:+0200
TZNAME:CEST
DTSTART:20190331T010000
END:DAYLIGHT
BEGIN:STANDARD
TZOFFSETFROM:+0200
TZOFFSETTO:+0100
TZNAME:CET
DTSTART:20191027T010000
END:STANDARD
END:VTIMEZONE
BEGIN:VEVENT
DTSTART;TZID=Europe/Paris:20180316T100000
DTEND;TZID=Europe/Paris:20180319T190000
DTSTAMP:20260424T021625
CREATED:20170921T073604Z
LAST-MODIFIED:20170921T141107Z
UID:4252-1521194400-1521486000@www.spas-expo.com
SUMMARY:Salon BIO & VEGAN Paris
DESCRIPTION:L’assurance de l’éthique et de la qualité. \nDes produits 100 % végans\, sans composants d’origine animale avec des exigences des modes de production biologiques. Pour le bien-être\, pour l’environnement ou pour les animaux\, Bio & Vegan le salon permet à toutes personnes souhaitant végétaliser leur quotidien\, de trouver des réponses et des exposants à leur écoute.  \nProduits alimentaires\, artisanaux\, bien-être « cruelty-free » issus d’une démarche biologique seront proposés à desvisiteurs toujours plus nombreux et qualitatifs
URL:https://www.spas-expo.com/event/salon-bio-vegan-paris/
LOCATION:PARC FLORAL\, Route de la Pyramide\, PARIS\, 75012
CATEGORIES:Salon BIO
ATTACH;FMTTYPE=image/jpeg:https://www.spas-expo.com/wp-content/uploads/2017/09/SPAS-VA16-Affiche-BioVegan-A4.jpg
ORGANIZER;CN="SPAS Organisation":MAILTO:contact@spas-expo.com
END:VEVENT
END:VCALENDAR