
BEGIN:VCALENDAR
VERSION:2.0
PRODID:-//Spas Organisation - ECPv6.15.16//NONSGML v1.0//EN
CALSCALE:GREGORIAN
METHOD:PUBLISH
X-WR-CALNAME:Spas Organisation
X-ORIGINAL-URL:https://www.spas-expo.com
X-WR-CALDESC:Évènements pour Spas Organisation
REFRESH-INTERVAL;VALUE=DURATION:PT1H
X-Robots-Tag:noindex
X-PUBLISHED-TTL:PT1H
BEGIN:VTIMEZONE
TZID:Europe/Paris
BEGIN:DAYLIGHT
TZOFFSETFROM:+0100
TZOFFSETTO:+0200
TZNAME:CEST
DTSTART:20170326T010000
END:DAYLIGHT
BEGIN:STANDARD
TZOFFSETFROM:+0200
TZOFFSETTO:+0100
TZNAME:CET
DTSTART:20171029T010000
END:STANDARD
BEGIN:DAYLIGHT
TZOFFSETFROM:+0100
TZOFFSETTO:+0200
TZNAME:CEST
DTSTART:20180325T010000
END:DAYLIGHT
BEGIN:STANDARD
TZOFFSETFROM:+0200
TZOFFSETTO:+0100
TZNAME:CET
DTSTART:20181028T010000
END:STANDARD
BEGIN:DAYLIGHT
TZOFFSETFROM:+0100
TZOFFSETTO:+0200
TZNAME:CEST
DTSTART:20190331T010000
END:DAYLIGHT
BEGIN:STANDARD
TZOFFSETFROM:+0200
TZOFFSETTO:+0100
TZNAME:CET
DTSTART:20191027T010000
END:STANDARD
END:VTIMEZONE
BEGIN:VEVENT
DTSTART;VALUE=DATE:20181103
DTEND;VALUE=DATE:20181112
DTSTAMP:20260423T003535
CREATED:20170904T150020Z
LAST-MODIFIED:20180320T134227Z
UID:3775-1541203200-1541980799@www.spas-expo.com
SUMMARY:Salon MARJOLAINE Paris
DESCRIPTION:Marjolaine\, c’est le plus grand marché bio de France \nLe salon Marjolaine\, le rendez-vous incontournable de tous les acteurs de l’agriculture biologique\, de l’écologie\, du développement durable et du bien-être au naturel. Marjolaine est un lieu de rencontres et d’échanges unique grâce à : \n\n130 ateliers-conférences pour mieux consommer\n30 conférences : tables rondes et projections de films\nUn café écolo pour débattre des thèmes d’actualité\nDe nombreuses associations liées à la protection de la nature et de l’agriculture bio\n\nDurant 9 jours\, plus de 560 exposants vous font découvrir des produits alliant qualité\, saveur et préservation de l’environnement. \n 
URL:https://www.spas-expo.com/event/salon-marjolaine/
LOCATION:PARC FLORAL\, Route de la Pyramide\, PARIS\, 75012
CATEGORIES:Salon BIO
ATTACH;FMTTYPE=image/jpeg:https://www.spas-expo.com/wp-content/uploads/2017/09/affiche-salon-Marjolaine-2018.jpg
ORGANIZER;CN="SPAS Organisation":MAILTO:contact@spas-expo.com
END:VEVENT
BEGIN:VEVENT
DTSTART;VALUE=DATE:20181116
DTEND;VALUE=DATE:20181120
DTSTAMP:20260423T003535
CREATED:20170921T074415Z
LAST-MODIFIED:20181108T075734Z
UID:4255-1542326400-1542671999@www.spas-expo.com
SUMMARY:Salon VIVEZ NATURE Lyon
DESCRIPTION:
URL:https://www.spas-expo.com/event/salon-vivez-nature-lyon/
LOCATION:EUREXPO LYON\, 9 Avenue Louis Blériot\, CHASSIEU\, 69680\, France
CATEGORIES:Salon en Région
ATTACH;FMTTYPE=image/jpeg:https://www.spas-expo.com/wp-content/uploads/2017/09/Affiche-VIVEZ-NATURE-Lyon.jpg
ORGANIZER;CN="SPAS Organisation":MAILTO:contact@spas-expo.com
END:VEVENT
BEGIN:VEVENT
DTSTART;VALUE=DATE:20181123
DTEND;VALUE=DATE:20181126
DTSTAMP:20260423T003535
CREATED:20170904T150349Z
LAST-MODIFIED:20180320T140604Z
UID:3778-1542931200-1543190399@www.spas-expo.com
SUMMARY:Salon RESPIRE LA VIE Poitiers
DESCRIPTION:Respire La Vie Poitiers\, votre rendez-vous bio\, bien-être et habitat sain en Nouvelle-Aquitaine \n\n3 jours de rencontres\, d’échanges et de découvertes\n180 exposants\, experts et passionnés de la bio et du bien-être\n11 000 visiteurs fidèles et motivés\, en recherche de produits écologiques et solutions de bien-être\nUn salon interactif avec des conférences\, des ateliers pratiques et des animations créatives\n18ème édition
URL:https://www.spas-expo.com/event/respire-poitiers/
LOCATION:PARC DES EXPOSITIONS\, 11 Rue Salvador Allende\, POITIERS\, 86000\, France
CATEGORIES:Salon en Région
ATTACH;FMTTYPE=image/jpeg:https://www.spas-expo.com/wp-content/uploads/2017/09/Affiche-RESPIRE-LA-VIE-Poitiers.jpg
ORGANIZER;CN="SPAS Organisation":MAILTO:contact@spas-expo.com
END:VEVENT
BEGIN:VEVENT
DTSTART;VALUE=DATE:20181130
DTEND;VALUE=DATE:20181204
DTSTAMP:20260423T003535
CREATED:20170907T074319Z
LAST-MODIFIED:20190624T150712Z
UID:3937-1543536000-1543881599@www.spas-expo.com
SUMMARY:Salon SAVEURS DES PLAISIRS GOURMANDS Paris
DESCRIPTION:La manifestation parisienne la plus sélective consacrée à la Gastronomie \n300 exposants – 34 000 visiteurs \nla cuisine\, la gastronomie\, les tendances food et les producteurs de nos régions vous donnent rendez-vous pour une édition résolument gastronomique\, authentique et mettant à l’honneur les meilleurs produits de nos terroirs.\nLe rendez-vous parisien des gourmets \n22e édition
URL:https://www.spas-expo.com/event/salon-saveurs-plaisirs-gourmands-3/
LOCATION:ESPACE CHAMPERRET\, 6 Rue Jean Oestreicher\, PARIS\, 75017\, France
CATEGORIES:Salon Bien-être & Art de vivre
ATTACH;FMTTYPE=image/jpeg:https://www.spas-expo.com/wp-content/uploads/2017/09/Affiche-Salon-saveurs-2018.jpg
ORGANIZER;CN="SPAS Organisation":MAILTO:contact@spas-expo.com
END:VEVENT
BEGIN:VEVENT
DTSTART;VALUE=DATE:20181130
DTEND;VALUE=DATE:20181203
DTSTAMP:20260423T003535
CREATED:20170907T075456Z
LAST-MODIFIED:20180320T140933Z
UID:3952-1543536000-1543795199@www.spas-expo.com
SUMMARY:Salon NATURABIO Lille
DESCRIPTION:Le plus grand salon bio et bien-être du nord de la France \n\n3 jours de rencontres\, d’échanges et de découvertes\n210 exposants\, experts et passionnés de la bio et du bien-être\n16 000 visiteurs fidèles et motivés\, en recherche de produits écologiques et solutions de bien-être\nUn salon interactif avec des conférences\, des ateliers pratiques et des animations créatives\n18ème édition
URL:https://www.spas-expo.com/event/naturabio-lille/
LOCATION:GRAND PALAIS\, LILLE\, France
CATEGORIES:Salon en Région
ATTACH;FMTTYPE=image/jpeg:https://www.spas-expo.com/wp-content/uploads/2017/09/Affiche-salon-NATURABIO.jpg
ORGANIZER;CN="SPAS Organisation":MAILTO:contact@spas-expo.com
END:VEVENT
END:VCALENDAR