
BEGIN:VCALENDAR
VERSION:2.0
PRODID:-//Spas Organisation - ECPv6.15.16//NONSGML v1.0//EN
CALSCALE:GREGORIAN
METHOD:PUBLISH
X-WR-CALNAME:Spas Organisation
X-ORIGINAL-URL:https://www.spas-expo.com
X-WR-CALDESC:Évènements pour Spas Organisation
REFRESH-INTERVAL;VALUE=DURATION:PT1H
X-Robots-Tag:noindex
X-PUBLISHED-TTL:PT1H
BEGIN:VTIMEZONE
TZID:Europe/Paris
BEGIN:DAYLIGHT
TZOFFSETFROM:+0100
TZOFFSETTO:+0200
TZNAME:CEST
DTSTART:20170326T010000
END:DAYLIGHT
BEGIN:STANDARD
TZOFFSETFROM:+0200
TZOFFSETTO:+0100
TZNAME:CET
DTSTART:20171029T010000
END:STANDARD
BEGIN:DAYLIGHT
TZOFFSETFROM:+0100
TZOFFSETTO:+0200
TZNAME:CEST
DTSTART:20180325T010000
END:DAYLIGHT
BEGIN:STANDARD
TZOFFSETFROM:+0200
TZOFFSETTO:+0100
TZNAME:CET
DTSTART:20181028T010000
END:STANDARD
BEGIN:DAYLIGHT
TZOFFSETFROM:+0100
TZOFFSETTO:+0200
TZNAME:CEST
DTSTART:20190331T010000
END:DAYLIGHT
BEGIN:STANDARD
TZOFFSETFROM:+0200
TZOFFSETTO:+0100
TZNAME:CET
DTSTART:20191027T010000
END:STANDARD
END:VTIMEZONE
BEGIN:VEVENT
DTSTART;VALUE=DATE:20181130
DTEND;VALUE=DATE:20181204
DTSTAMP:20260422T184407
CREATED:20170907T074319Z
LAST-MODIFIED:20190624T150712Z
UID:3937-1543536000-1543881599@www.spas-expo.com
SUMMARY:Salon SAVEURS DES PLAISIRS GOURMANDS Paris
DESCRIPTION:La manifestation parisienne la plus sélective consacrée à la Gastronomie \n300 exposants – 34 000 visiteurs \nla cuisine\, la gastronomie\, les tendances food et les producteurs de nos régions vous donnent rendez-vous pour une édition résolument gastronomique\, authentique et mettant à l’honneur les meilleurs produits de nos terroirs.\nLe rendez-vous parisien des gourmets \n22e édition
URL:https://www.spas-expo.com/event/salon-saveurs-plaisirs-gourmands-3/
LOCATION:ESPACE CHAMPERRET\, 6 Rue Jean Oestreicher\, PARIS\, 75017\, France
CATEGORIES:Salon Bien-être & Art de vivre
ATTACH;FMTTYPE=image/jpeg:https://www.spas-expo.com/wp-content/uploads/2017/09/Affiche-Salon-saveurs-2018.jpg
ORGANIZER;CN="SPAS Organisation":MAILTO:contact@spas-expo.com
END:VEVENT
BEGIN:VEVENT
DTSTART;VALUE=DATE:20181130
DTEND;VALUE=DATE:20181203
DTSTAMP:20260422T184407
CREATED:20170907T075456Z
LAST-MODIFIED:20180320T140933Z
UID:3952-1543536000-1543795199@www.spas-expo.com
SUMMARY:Salon NATURABIO Lille
DESCRIPTION:Le plus grand salon bio et bien-être du nord de la France \n\n3 jours de rencontres\, d’échanges et de découvertes\n210 exposants\, experts et passionnés de la bio et du bien-être\n16 000 visiteurs fidèles et motivés\, en recherche de produits écologiques et solutions de bien-être\nUn salon interactif avec des conférences\, des ateliers pratiques et des animations créatives\n18ème édition
URL:https://www.spas-expo.com/event/naturabio-lille/
LOCATION:GRAND PALAIS\, LILLE\, France
CATEGORIES:Salon en Région
ATTACH;FMTTYPE=image/jpeg:https://www.spas-expo.com/wp-content/uploads/2017/09/Affiche-salon-NATURABIO.jpg
ORGANIZER;CN="SPAS Organisation":MAILTO:contact@spas-expo.com
END:VEVENT
BEGIN:VEVENT
DTSTART;VALUE=DATE:20181206
DTEND;VALUE=DATE:20181209
DTSTAMP:20260422T184407
CREATED:20190118T135308Z
LAST-MODIFIED:20190118T135308Z
UID:5075-1544054400-1544313599@www.spas-expo.com
SUMMARY:Salon NOEL EN BIO Paris
DESCRIPTION:
URL:https://www.spas-expo.com/event/salon-noel-bio-paris-2/
LOCATION:PARIS PORTE DE VERSAILLES\, 1 Place de la Porte de Versailles\, PARIS\, 75015
CATEGORIES:Salon BIO
ORGANIZER;CN="SPAS Organisation":MAILTO:contact@spas-expo.com
END:VEVENT
BEGIN:VEVENT
DTSTART;VALUE=DATE:20181214
DTEND;VALUE=DATE:20181217
DTSTAMP:20260422T184407
CREATED:20170907T074049Z
LAST-MODIFIED:20181108T080011Z
UID:3934-1544745600-1545004799@www.spas-expo.com
SUMMARY:Salons VINIBIO Paris
DESCRIPTION:Le salon ViniBio accueille tous les vignerons qui travaillent depuis des années dans le respect de l’environnement\, des règles de l’agriculture\, de la vinification biologique et biodynamique\, avec un seul objectif\, offrir aux dégustateurs amateurs ou avisés\, le meilleur de ce que la nature peut offrir\, en préservant la diversité et l’authenticité des goûts et des terroirs.
URL:https://www.spas-expo.com/event/vinibio-biogourmet/
LOCATION:PARIS PORTE DE VERSAILLES\, 1 Place de la Porte de Versailles\, PARIS\, 75015
CATEGORIES:Salon BIO
ATTACH;FMTTYPE=image/jpeg:https://www.spas-expo.com/wp-content/uploads/2017/09/affiche-vinibio-2018-ok.jpg
ORGANIZER;CN="SPAS Organisation":MAILTO:contact@spas-expo.com
END:VEVENT
BEGIN:VEVENT
DTSTART;VALUE=DATE:20181214
DTEND;VALUE=DATE:20181217
DTSTAMP:20260422T184407
CREATED:20170921T074655Z
LAST-MODIFIED:20181108T080702Z
UID:4258-1544745600-1545004799@www.spas-expo.com
SUMMARY:Salon NOEL EN BIO Paris
DESCRIPTION:
URL:https://www.spas-expo.com/event/salon-noel-bio-paris/
LOCATION:PARIS PORTE DE VERSAILLES\, 1 Place de la Porte de Versailles\, PARIS\, 75015
CATEGORIES:Salon BIO
ATTACH;FMTTYPE=image/jpeg:https://www.spas-expo.com/wp-content/uploads/2017/09/Affiche-noel-en-bio-2018.jpg
ORGANIZER;CN="SPAS Organisation":MAILTO:contact@spas-expo.com
END:VEVENT
END:VCALENDAR