
BEGIN:VCALENDAR
VERSION:2.0
PRODID:-//Spas Organisation - ECPv6.15.16//NONSGML v1.0//EN
CALSCALE:GREGORIAN
METHOD:PUBLISH
X-ORIGINAL-URL:https://www.spas-expo.com
X-WR-CALDESC:Évènements pour Spas Organisation
REFRESH-INTERVAL;VALUE=DURATION:PT1H
X-Robots-Tag:noindex
X-PUBLISHED-TTL:PT1H
BEGIN:VTIMEZONE
TZID:Europe/Paris
BEGIN:DAYLIGHT
TZOFFSETFROM:+0100
TZOFFSETTO:+0200
TZNAME:CEST
DTSTART:20180325T010000
END:DAYLIGHT
BEGIN:STANDARD
TZOFFSETFROM:+0200
TZOFFSETTO:+0100
TZNAME:CET
DTSTART:20181028T010000
END:STANDARD
BEGIN:DAYLIGHT
TZOFFSETFROM:+0100
TZOFFSETTO:+0200
TZNAME:CEST
DTSTART:20190331T010000
END:DAYLIGHT
BEGIN:STANDARD
TZOFFSETFROM:+0200
TZOFFSETTO:+0100
TZNAME:CET
DTSTART:20191027T010000
END:STANDARD
BEGIN:DAYLIGHT
TZOFFSETFROM:+0100
TZOFFSETTO:+0200
TZNAME:CEST
DTSTART:20200329T010000
END:DAYLIGHT
BEGIN:STANDARD
TZOFFSETFROM:+0200
TZOFFSETTO:+0100
TZNAME:CET
DTSTART:20201025T010000
END:STANDARD
END:VTIMEZONE
BEGIN:VEVENT
DTSTART;VALUE=DATE:20190131
DTEND;VALUE=DATE:20190205
DTSTAMP:20260422T085819
CREATED:20170907T075859Z
LAST-MODIFIED:20180604T091821Z
UID:3956-1548892800-1549324799@www.spas-expo.com
SUMMARY:Salon BIEN-ETRE\, MEDECINE DOUCE & THALASSO Paris
DESCRIPTION:Le rendez-vous leader des Médecines Douces et du Bien-être \n330 exposants – 36 500 visiteurs \n15 conférences sur la Santé au naturel avec des têtes d’affiche\n4 conférences transversales avec des débats et/ou tables rondes autour des médecines douces\n150 Ateliers-conférences pour mieux comprendre les méthodes de soins et les produits\n1 espace Forme et Équilibre avec une zone d’exposition et une salle d’atelier pratique\nUne nouvelle sectorisation du salon \nMédecines douces • Compléments alimentaires • Alimentation saine • Cosmétiques naturelles • Art de vivre • Tourisme de santé 
URL:https://www.spas-expo.com/event/bien-etre-medecine-douce-thalasso/
LOCATION:PARIS PORTE DE VERSAILLES\, 1 Place de la Porte de Versailles\, PARIS\, 75015
CATEGORIES:Salon Bien-être & Art de vivre
ATTACH;FMTTYPE=image/jpeg:https://www.spas-expo.com/wp-content/uploads/2018/06/Affiche-BE-2019.jpg
ORGANIZER;CN="SPAS Organisation":MAILTO:contact@spas-expo.com
END:VEVENT
BEGIN:VEVENT
DTSTART;VALUE=DATE:20190208
DTEND;VALUE=DATE:20190211
DTSTAMP:20260422T085819
CREATED:20170907T074651Z
LAST-MODIFIED:20180604T092834Z
UID:3943-1549584000-1549843199@www.spas-expo.com
SUMMARY:Salon LES THERMALIES Lyon
DESCRIPTION:Le salon de l’eau et du bien-être revient à Lyon \n160 exposants – 5 800 visiteurs \n  \n\nThalasso – Thermalisme – Santé – Tourisme médical – Wellness\n6 pavillons thématiques\n3ème édition\n\n 
URL:https://www.spas-expo.com/event/les-thermalies-lyon/
LOCATION:LA SUCRIERE\, 49-50 Quai Rambaud\, LYON\, 69002\, France
CATEGORIES:Salon Bien-être & Art de vivre
ATTACH;FMTTYPE=image/jpeg:https://www.spas-expo.com/wp-content/uploads/2018/06/Affiche-Th2019.jpg
ORGANIZER;CN="SPAS Organisation":MAILTO:contact@spas-expo.com
END:VEVENT
BEGIN:VEVENT
DTSTART;VALUE=DATE:20190215
DTEND;VALUE=DATE:20190218
DTSTAMP:20260422T085819
CREATED:20170907T080515Z
LAST-MODIFIED:20180821T094902Z
UID:3965-1550188800-1550447999@www.spas-expo.com
SUMMARY:Salon RESPIRE LA VIE Rennes
DESCRIPTION:Le rendez-vous bio\, bien-être et habitat sain en Bretagne \n230 exposants – 14 300 visiteurs \n\n3 jours de rencontres\, d’échanges et de découvertes\nUn salon interactif avec des conférences\, des ateliers pratiques et des animations créatives\n15ème édition
URL:https://www.spas-expo.com/event/respire-rennes/
LOCATION:PARC DES EXPOSITIONS DE RENNES\, La Haie Gautrais\, BRUZ\, 35170\, France
CATEGORIES:Salon en Région
ATTACH;FMTTYPE=image/jpeg:https://www.spas-expo.com/wp-content/uploads/2017/09/Respire-la-Vie_Rennes_A4_5.jpg
ORGANIZER;CN="SPAS Organisation":MAILTO:contact@spas-expo.com
END:VEVENT
END:VCALENDAR